BEGIN:VCALENDAR
VERSION:2.0
PRODID:icalendar-ruby
CALSCALE:GREGORIAN
METHOD:PUBLISH
BEGIN:VEVENT
DTSTAMP:20260423T171426Z
UID:24-428616@kermanbaptist.org
DTSTART:20260802T173000Z
DTEND:20260802T184500Z
CLASS:PUBLIC
CREATED:20260423T073006
DESCRIPTION:
LAST-MODIFIED:20260423T073006
LOCATION:Kerman Baptist Church
SUMMARY:Sunday Worship Service
URL;VALUE=URI:https://www.kermanbaptist.org/events/sunday-worship-service/2
 026-08-02
END:VEVENT
END:VCALENDAR
