BEGIN:VCALENDAR
VERSION:2.0
PRODID:icalendar-ruby
CALSCALE:GREGORIAN
METHOD:PUBLISH
BEGIN:VEVENT
DTSTAMP:20260423T184816Z
UID:24-428906@kermanbaptist.org
DTSTART:20260809T173000Z
DTEND:20260809T184500Z
CLASS:PUBLIC
CREATED:20260423T102457
DESCRIPTION:
LAST-MODIFIED:20260423T102457
LOCATION:Kerman Baptist Church
SUMMARY:Sunday Worship Service
URL;VALUE=URI:https://www.kermanbaptist.org/events/sunday-worship-service/2
 026-08-09
END:VEVENT
END:VCALENDAR
