BEGIN:VCALENDAR
VERSION:2.0
PRODID:icalendar-ruby
CALSCALE:GREGORIAN
METHOD:PUBLISH
BEGIN:VEVENT
DTSTAMP:20260423T221532Z
UID:24-429197@kermanbaptist.org
DTSTART:20260823T173000Z
DTEND:20260823T184500Z
CLASS:PUBLIC
CREATED:20260423T132116
DESCRIPTION:
LAST-MODIFIED:20260423T132116
LOCATION:Kerman Baptist Church
SUMMARY:Sunday Worship Service
URL;VALUE=URI:https://www.kermanbaptist.org/events/sunday-worship-service/2
 026-08-23
END:VEVENT
END:VCALENDAR
