BEGIN:VCALENDAR
VERSION:2.0
PRODID:icalendar-ruby
CALSCALE:GREGORIAN
METHOD:PUBLISH
BEGIN:VEVENT
DTSTAMP:20260423T235503Z
UID:24-429487@kermanbaptist.org
DTSTART:20260830T173000Z
DTEND:20260830T184500Z
CLASS:PUBLIC
CREATED:20260423T161503
DESCRIPTION:
LAST-MODIFIED:20260423T161503
LOCATION:Kerman Baptist Church
SUMMARY:Sunday Worship Service
URL;VALUE=URI:https://www.kermanbaptist.org/events/sunday-worship-service/2
 026-08-30
END:VEVENT
END:VCALENDAR
